BEGIN:VCALENDAR
VERSION:2.0
PRODID:-//Tukios.com/
BEGIN:VEVENT
UID:9d8601a5-fbc3-4dac-a00c-b161f840da88@www.winnfieldfuneralhome-alexandria.com
DTSTAMP:20260421T203217Z
DTSTART:20260425T160000Z
DTEND:20260425T170000Z
SUMMARY:Memorial Service
DESCRIPTION:
URL:https://www.winnfieldfuneralhome-alexandria.com/obituaries/tonya-reece
LOCATION:Rose of Sharon Baptist Church 1401 10th St  Alexandria LA 71301
GEO:31.3056596;-92.4460341
END:VEVENT
END:VCALENDAR